BEGIN:VCALENDAR
VERSION:2.0
PRODID:-// - ECPv6.15.20//NONSGML v1.0//EN
CALSCALE:GREGORIAN
METHOD:PUBLISH
X-ORIGINAL-URL:https://cgvvr.org
X-WR-CALDESC:Évènements pour 
REFRESH-INTERVAL;VALUE=DURATION:PT1H
X-Robots-Tag:noindex
X-PUBLISHED-TTL:PT1H
BEGIN:VTIMEZONE
TZID:Europe/Paris
BEGIN:DAYLIGHT
TZOFFSETFROM:+0100
TZOFFSETTO:+0200
TZNAME:CEST
DTSTART:20220327T010000
END:DAYLIGHT
BEGIN:STANDARD
TZOFFSETFROM:+0200
TZOFFSETTO:+0100
TZNAME:CET
DTSTART:20221030T010000
END:STANDARD
BEGIN:DAYLIGHT
TZOFFSETFROM:+0100
TZOFFSETTO:+0200
TZNAME:CEST
DTSTART:20230326T010000
END:DAYLIGHT
BEGIN:STANDARD
TZOFFSETFROM:+0200
TZOFFSETTO:+0100
TZNAME:CET
DTSTART:20231029T010000
END:STANDARD
BEGIN:DAYLIGHT
TZOFFSETFROM:+0100
TZOFFSETTO:+0200
TZNAME:CEST
DTSTART:20240331T010000
END:DAYLIGHT
BEGIN:STANDARD
TZOFFSETFROM:+0200
TZOFFSETTO:+0100
TZNAME:CET
DTSTART:20241027T010000
END:STANDARD
END:VTIMEZONE
BEGIN:VEVENT
DTSTART;TZID=Europe/Paris:20230916T090000
DTEND;TZID=Europe/Paris:20230917T170000
DTSTAMP:20260423T135923
CREATED:20230806T081806Z
LAST-MODIFIED:20230912T085221Z
UID:1047-1694854800-1694970000@cgvvr.org
SUMMARY:Journées Européennes du Patrimoine
DESCRIPTION:Participation du CGVVR aux Journées du Patrimoine à VIENNE \nExpo :\nFernand & Mado Point. L’histoire du restaurant la Pyramide à Vienne \nRésumé :\nNous présentons l’histoire du célèbre restaurant gastronomique “La Pyramide” à Vienne. Au siècle\ndernier\, l’emblématique couple Fernand et Mado Point firent la renommée du lieu. Une référence\nde la gastronomie française ! \nPlus d’info :\nExposition retraçant l’histoire du restaurant La Pyramide à Vienne depuis la création d’une petite auberge\nen ce lieu\, il y a eu 200 ans. Des chefs de cuisine talentueux se sont succédés ici\, mais l’;histoire de ce haut\nlieu gastronomique n’est pas si connue de tous.\nFernand Point en s’installant à Vienne en 1925\, fut un pionnier de la nouvelle cuisine et le 1er chef à\nobtenir 3 étoiles au Guide Michelin. Après le décès de Fernand en 1955\, Mado\, son épouse dirigea\nremarquablement l’établissement jusqu’en 1986.\nPatrick Henriroux reprit le restaurant en 1989 et il poursuit la grande tradition culinaire viennoise.\nLa Pyramide a transmis un savoir culinaire à de nombreux jeunes chefs devenus ensuite célèbres.\nUn clin d’œil à quelques autres restaurants locaux\, des menus anciens et les généalogies de Fernand et\nMado POINT complètent notre présentation. \nAffiche montage photos\n© Centre généalogique de Vienne et vallée du Rhône \n 
URL:https://cgvvr.org/event/journees-du-patrimoine/
LOCATION:Salle Europe – Hotel de ville de VIENNE\, 7 Pl. de l'Hôtel de ville\, 38200 VIENNE\, 38200\, France
ATTACH;FMTTYPE=image/jpeg:https://cgvvr.org/wp-content/uploads/2023/08/Expo-Fernand-Mado-Point-La-Pyramide-.jpg
END:VEVENT
END:VCALENDAR