BEGIN:VCALENDAR
VERSION:2.0
PRODID:-// - ECPv6.15.20//NONSGML v1.0//EN
CALSCALE:GREGORIAN
METHOD:PUBLISH
X-ORIGINAL-URL:https://cgvvr.org
X-WR-CALDESC:Évènements pour 
REFRESH-INTERVAL;VALUE=DURATION:PT1H
X-Robots-Tag:noindex
X-PUBLISHED-TTL:PT1H
BEGIN:VTIMEZONE
TZID:Europe/Paris
BEGIN:DAYLIGHT
TZOFFSETFROM:+0100
TZOFFSETTO:+0200
TZNAME:CEST
DTSTART:20220327T010000
END:DAYLIGHT
BEGIN:STANDARD
TZOFFSETFROM:+0200
TZOFFSETTO:+0100
TZNAME:CET
DTSTART:20221030T010000
END:STANDARD
BEGIN:DAYLIGHT
TZOFFSETFROM:+0100
TZOFFSETTO:+0200
TZNAME:CEST
DTSTART:20230326T010000
END:DAYLIGHT
BEGIN:STANDARD
TZOFFSETFROM:+0200
TZOFFSETTO:+0100
TZNAME:CET
DTSTART:20231029T010000
END:STANDARD
BEGIN:DAYLIGHT
TZOFFSETFROM:+0100
TZOFFSETTO:+0200
TZNAME:CEST
DTSTART:20240331T010000
END:DAYLIGHT
BEGIN:STANDARD
TZOFFSETFROM:+0200
TZOFFSETTO:+0100
TZNAME:CET
DTSTART:20241027T010000
END:STANDARD
END:VTIMEZONE
BEGIN:VEVENT
DTSTART;TZID=Europe/Paris:20231014T100000
DTEND;TZID=Europe/Paris:20231015T170000
DTSTAMP:20260423T122513
CREATED:20230806T083654Z
LAST-MODIFIED:20230912T084317Z
UID:1059-1697277600-1697389200@cgvvr.org
SUMMARY:8ème Forum de Généalogie RHONE-ALPES
DESCRIPTION:Nous serons présents lors du 8ème forum de généalogie Rhône-Alpes qui aura lieu à St Bonnet de mure le 14 et 15 octobre\, venez nous retrouver à cette occasion\, nous serons très heureux de vous rencontrer.
URL:https://cgvvr.org/event/8eme-forum-de-genealogie-rhone-alpes/
LOCATION:Gymnase André MALRAUX\, 7 Rue André Malraux\, 69720 Saint-Laurent-de-Mure\, 69720\, France
ATTACH;FMTTYPE=image/jpeg:https://cgvvr.org/wp-content/uploads/2023/08/Forum-de-genealogie-20231.jpg
END:VEVENT
END:VCALENDAR