BEGIN:VCALENDAR
VERSION:2.0
PRODID:-// - ECPv6.15.20//NONSGML v1.0//EN
CALSCALE:GREGORIAN
METHOD:PUBLISH
X-ORIGINAL-URL:https://cgvvr.org
X-WR-CALDESC:Évènements pour 
REFRESH-INTERVAL;VALUE=DURATION:PT1H
X-Robots-Tag:noindex
X-PUBLISHED-TTL:PT1H
BEGIN:VTIMEZONE
TZID:Europe/Paris
BEGIN:DAYLIGHT
TZOFFSETFROM:+0100
TZOFFSETTO:+0200
TZNAME:CEST
DTSTART:20220327T010000
END:DAYLIGHT
BEGIN:STANDARD
TZOFFSETFROM:+0200
TZOFFSETTO:+0100
TZNAME:CET
DTSTART:20221030T010000
END:STANDARD
BEGIN:DAYLIGHT
TZOFFSETFROM:+0100
TZOFFSETTO:+0200
TZNAME:CEST
DTSTART:20230326T010000
END:DAYLIGHT
BEGIN:STANDARD
TZOFFSETFROM:+0200
TZOFFSETTO:+0100
TZNAME:CET
DTSTART:20231029T010000
END:STANDARD
BEGIN:DAYLIGHT
TZOFFSETFROM:+0100
TZOFFSETTO:+0200
TZNAME:CEST
DTSTART:20240331T010000
END:DAYLIGHT
BEGIN:STANDARD
TZOFFSETFROM:+0200
TZOFFSETTO:+0100
TZNAME:CET
DTSTART:20241027T010000
END:STANDARD
END:VTIMEZONE
BEGIN:VEVENT
DTSTART;TZID=Europe/Paris:20231004T100000
DTEND;TZID=Europe/Paris:20231004T170000
DTSTAMP:20260423T105041
CREATED:20230810T151253Z
LAST-MODIFIED:20230912T085819Z
UID:1170-1696413600-1696438800@cgvvr.org
SUMMARY:Salon des seniors
DESCRIPTION:Nous sommes présents au Salon des seniors à VIENNE\, si vous vous passionnez pour la généalogie (de famille\, du bâti…)\, venez nous rencontrer\, nous répondrons à touts vos questions.
URL:https://cgvvr.org/event/salon-des-seniors/
LOCATION:Salle des fêtes\, Pl. de Miremont\, 38200 Vienne\, 38200\, France
ATTACH;FMTTYPE=image/jpeg:https://cgvvr.org/wp-content/uploads/2023/06/Atelier-genealogique-1.jpg
END:VEVENT
BEGIN:VEVENT
DTSTART;TZID=Europe/Paris:20231005T140000
DTEND;TZID=Europe/Paris:20231005T170000
DTSTAMP:20260423T105041
CREATED:20230806T143318Z
LAST-MODIFIED:20230912T084359Z
UID:1067-1696514400-1696525200@cgvvr.org
SUMMARY:Permanence à ROUSSILLON
DESCRIPTION:Permanence de Roussillon
URL:https://cgvvr.org/event/permanence-a-roussillon-le-jeudi/
LOCATION:Salle Michel de l’Hôpital\, Château de l'Edit\, 38150 ROUSSILLON\, 38150\, France
CATEGORIES:Permanences de Roussillon
ATTACH;FMTTYPE=image/jpeg:https://cgvvr.org/wp-content/uploads/2023/07/Chateau-de-lEdit.jpg
END:VEVENT
BEGIN:VEVENT
DTSTART;TZID=Europe/Paris:20231008T100000
DTEND;TZID=Europe/Paris:20231008T180000
DTSTAMP:20260423T105041
CREATED:20230904T074000Z
LAST-MODIFIED:20230912T090002Z
UID:1563-1696759200-1696788000@cgvvr.org
SUMMARY:Forum EGDA
DESCRIPTION:Nous serons présents au forum EGDA (Études généalogiques Drôme Association) pour présenter nos travaux et nos bases de données. \nVenez nous retrouver
URL:https://cgvvr.org/event/forum-egda/
LOCATION:Salle des fêtes Cléon d’Andran\, 95 le village\, CLEON d'ANDRAN\, 26450\, France
ATTACH;FMTTYPE=image/jpeg:https://cgvvr.org/wp-content/uploads/2023/09/Cleon-dAndran.jpeg
END:VEVENT
BEGIN:VEVENT
DTSTART;TZID=Europe/Paris:20231009T140000
DTEND;TZID=Europe/Paris:20231009T170000
DTSTAMP:20260423T105041
CREATED:20230806T080317Z
LAST-MODIFIED:20230912T075042Z
UID:1034-1696860000-1696870800@cgvvr.org
SUMMARY:Permanence à VIENNE
DESCRIPTION:Permanence de VIENNE
URL:https://cgvvr.org/event/permanence-de-vienne-le-lundi-2/
LOCATION:Maison des Syndicats\, Chem. des Aqueducs\, 38200 VIENNE\, France
CATEGORIES:Permanences de Vienne
ATTACH;FMTTYPE=image/jpeg:https://cgvvr.org/wp-content/uploads/2023/07/Maison-des-syndicats-Vienne.jpg
END:VEVENT
BEGIN:VEVENT
DTSTART;TZID=Europe/Paris:20231014T090000
DTEND;TZID=Europe/Paris:20231014T110000
DTSTAMP:20260423T105041
CREATED:20230806T144115Z
LAST-MODIFIED:20230912T080937Z
UID:1076-1697274000-1697281200@cgvvr.org
SUMMARY:Permanence à ROUSSILLON
DESCRIPTION:Permanence de Roussillon
URL:https://cgvvr.org/event/permanence-a-roussillon-le-samedi-2/
LOCATION:Salle Michel de l’Hôpital\, Château de l'Edit\, 38150 ROUSSILLON\, 38150\, France
CATEGORIES:Permanences de Roussillon
ATTACH;FMTTYPE=image/jpeg:https://cgvvr.org/wp-content/uploads/2023/07/Chateau-de-lEdit.jpg
END:VEVENT
BEGIN:VEVENT
DTSTART;TZID=Europe/Paris:20231014T100000
DTEND;TZID=Europe/Paris:20231015T170000
DTSTAMP:20260423T105041
CREATED:20230806T083654Z
LAST-MODIFIED:20230912T084317Z
UID:1059-1697277600-1697389200@cgvvr.org
SUMMARY:8ème Forum de Généalogie RHONE-ALPES
DESCRIPTION:Nous serons présents lors du 8ème forum de généalogie Rhône-Alpes qui aura lieu à St Bonnet de mure le 14 et 15 octobre\, venez nous retrouver à cette occasion\, nous serons très heureux de vous rencontrer.
URL:https://cgvvr.org/event/8eme-forum-de-genealogie-rhone-alpes/
LOCATION:Gymnase André MALRAUX\, 7 Rue André Malraux\, 69720 Saint-Laurent-de-Mure\, 69720\, France
ATTACH;FMTTYPE=image/jpeg:https://cgvvr.org/wp-content/uploads/2023/08/Forum-de-genealogie-20231.jpg
END:VEVENT
BEGIN:VEVENT
DTSTART;TZID=Europe/Paris:20231021T140000
DTEND;TZID=Europe/Paris:20231021T170000
DTSTAMP:20260423T105041
CREATED:20230806T082236Z
LAST-MODIFIED:20230912T080848Z
UID:1049-1697896800-1697907600@cgvvr.org
SUMMARY:Permanence à VIENNE
DESCRIPTION:Permanence de VIENNE
URL:https://cgvvr.org/event/permanence-de-vienne-le-samedi-2/
LOCATION:Maison des Syndicats\, Chem. des Aqueducs\, 38200 VIENNE\, France
CATEGORIES:Permanences de Vienne
ATTACH;FMTTYPE=image/jpeg:https://cgvvr.org/wp-content/uploads/2023/07/Maison-des-syndicats-Vienne.jpg
END:VEVENT
END:VCALENDAR